BEGIN:VCALENDAR
VERSION:2.0
PRODID:-//Tukios.com/
BEGIN:VEVENT
UID:5db98394-30e5-44ce-bfa4-c76ebb12aea8@www.hooperfuneral.com
DTSTAMP:20260424T192538Z
DTSTART:20260501T140000Z
DTEND:20260501T150000Z
SUMMARY:Viewing
DESCRIPTION:
URL:https://www.hooperfuneral.com/obituaries/jerry-gumby
LOCATION: 2747 Reel St  Harrisburg PA 17110
GEO:40.2911671;-76.8970261
END:VEVENT
END:VCALENDAR