BEGIN:VCALENDAR
VERSION:2.0
PRODID:-//Tukios.com/
BEGIN:VEVENT
UID:ec22e495-c58e-43aa-b1be-7ccc0db29333@www.hooperfuneral.com
DTSTAMP:20260424T192447Z
DTSTART:20260501T150000Z
DTEND:20260501T160000Z
SUMMARY:Celebration of Life
DESCRIPTION:
URL:https://www.hooperfuneral.com/obituaries/jerry-gumby
LOCATION: 2747 Reel St  Harrisburg PA 17110
GEO:40.2911671;-76.8970261
END:VEVENT
END:VCALENDAR